BEGIN:VCALENDAR
VERSION:2.0
PRODID:-//New Riff - ECPv6.11.0//NONSGML v1.0//EN
CALSCALE:GREGORIAN
METHOD:PUBLISH
X-ORIGINAL-URL:https://www.newriffdistilling.com
X-WR-CALDESC:Events for New Riff
REFRESH-INTERVAL;VALUE=DURATION:PT1H
X-Robots-Tag:noindex
X-PUBLISHED-TTL:PT1H
BEGIN:VTIMEZONE
TZID:America/Kentucky/Louisville
BEGIN:DAYLIGHT
TZOFFSETFROM:-0500
TZOFFSETTO:-0400
TZNAME:EDT
DTSTART:20220313T070000
END:DAYLIGHT
BEGIN:STANDARD
TZOFFSETFROM:-0400
TZOFFSETTO:-0500
TZNAME:EST
DTSTART:20221106T060000
END:STANDARD
END:VTIMEZONE
BEGIN:VEVENT
DTSTART;TZID=America/Kentucky/Louisville:20220105T110000
DTEND;TZID=America/Kentucky/Louisville:20220105T140000
DTSTAMP:20260420T051205
CREATED:20211215T001345Z
LAST-MODIFIED:20230228T080846Z
UID:4935-1641380400-1641391200@www.newriffdistilling.com
SUMMARY:HAPPY HOUR: $5 Classic Cocktails
DESCRIPTION:Need a midweek break? Us too. Don’t forget we’ve got happy hour every week! Wednesday and Thursday from 4-7 with all our classic cocktails for $5! We’ll see you soon!
URL:https://www.newriffdistilling.com/event/happy-hour-5-classic-cocktails-5/2022-01-05/
LOCATION:The Aquifer Bar\, 24 Distillery Way\, Newport\, KY\, 41073\, United States
ATTACH;FMTTYPE=image/png:https://www.newriffdistilling.com/wp-content/uploads/2021/03/HapPY-HOUR-2-1.png
END:VEVENT
END:VCALENDAR